BEGIN:VCALENDAR
VERSION:2.0
PRODID:-//wp-events-plugin.com//7.2.3.1//EN
TZID:America/New_York
X-WR-TIMEZONE:America/New_York
BEGIN:VEVENT
UID:39@bwburgers.com
DTSTART;TZID=America/New_York:20260418T190000
DTEND;TZID=America/New_York:20260418T230000
DTSTAMP:20260407T043037Z
URL:https://bwburgers.com/events/burns-vs-masvidal-ufc-fight-night/
SUMMARY:Burns vs. Masvidal - UFC Fight Night
DESCRIPTION:🥊 Fight Night Fever is hitting BW Burgers!\nJoin us on Satur
 day\, April 18th for an epic UFC showdown—burning hot wings\, ice-cold b
 rews\, and nonstop action on every screen. 🍔🍺 Catch Burns vs. Masvid
 al live while enjoying our $14.99 Wings Combo with a 16oz BW Brew draft!\n
 🔥 No cover\, just big fights\, bold flavors\, and the best vibes in Nor
 cross! #BWMainStage #FightNight #NorcrossNights #UFCVibes
ATTACH;FMTTYPE=image/jpeg:https://bwburgers.com/wp-content/uploads/2026/04
 /WhatsApp-Image-2026-04-06-at-21.15.14-1.jpeg
END:VEVENT
BEGIN:VTIMEZONE
TZID:America/New_York
X-LIC-LOCATION:America/New_York
BEGIN:DAYLIGHT
DTSTART:20260308T030000
TZOFFSETFROM:-0500
TZOFFSETTO:-0400
TZNAME:EDT
END:DAYLIGHT
END:VTIMEZONE
END:VCALENDAR