BEGIN:VCALENDAR
VERSION:2.0
PRODID:-//wp-events-plugin.com//7.2.3.1//EN
TZID:America/New_York
X-WR-TIMEZONE:America/New_York
BEGIN:VEVENT
UID:12@bwburgers.com
DTSTART;TZID=America/New_York:20260410T190000
DTEND;TZID=America/New_York:20260410T230000
DTSTAMP:20260316T201559Z
URL:https://bwburgers.com/events/joe-hall-free-event/
SUMMARY:Joe Hall - Free Event
DESCRIPTION:\n🎶 Main Stage Fridays keep the music rolling with Joe Hall!
 \n \n\nJoin us on Friday\, April 10th as Joe Hall performs live\, bringing
  smooth acoustic sounds\, great vocals\, and the perfect laid-back vibe to
  kick off your weekend. Pair the music with our juicy burgers and ice-cold
  draft beer for a night that hits all the right notes. 🎸🍔🍺\n\n \n
 \n✨ Free entry\, full bar\, draft beer\, and our late-night kitchen serv
 ing all your BW favorites.\n\n \n\n📍 113 S Peachtree St\, Norcross\, GA
  30071\n⏰ Doors open early | Show kicks off at 7:00 PM\n🌟 Your weeken
 d starts here at BW Burgers!\n\n \n#BWMainStage #JoeHallLive #NorcrossNigh
 ts #LiveMusicVibes\n
ATTACH;FMTTYPE=image/jpeg:https://bwburgers.com/wp-content/uploads/2025/09
 /WhatsApp-Image-2026-03-04-at-21.44.51-2.jpeg
END:VEVENT
BEGIN:VTIMEZONE
TZID:America/New_York
X-LIC-LOCATION:America/New_York
BEGIN:DAYLIGHT
DTSTART:20260308T030000
TZOFFSETFROM:-0500
TZOFFSETTO:-0400
TZNAME:EDT
END:DAYLIGHT
END:VTIMEZONE
END:VCALENDAR